BEGIN:VCALENDAR
VERSION:2.0
PRODID:-//321 Live - ECPv5.4.0//NONSGML v1.0//EN
CALSCALE:GREGORIAN
METHOD:PUBLISH
X-WR-CALNAME:321 Live
X-ORIGINAL-URL:https://321live.net.br
X-WR-CALDESC:Eventos para 321 Live
BEGIN:VTIMEZONE
TZID:America/Sao_Paulo
BEGIN:STANDARD
TZOFFSETFROM:-0300
TZOFFSETTO:-0300
TZNAME:-03
DTSTART:20210101T000000
END:STANDARD
END:VTIMEZONE
BEGIN:VEVENT
DTSTART;TZID=America/Sao_Paulo:20210309T180000
DTEND;TZID=America/Sao_Paulo:20210309T190000
DTSTAMP:20260419T120414
CREATED:20210225T231840Z
LAST-MODIFIED:20210302T144538Z
UID:1339-1615312800-1615316400@321live.net.br
SUMMARY:Evento teste
DESCRIPTION:Evento teste
URL:https://321live.net.br/event/evento-teste/
CATEGORIES:Evento teste
ATTACH;FMTTYPE=image/jpeg:https://321live.net.br/wp-content/uploads/2016/07/blog-post-content2.jpg
ORGANIZER;CN="321%20Live":MAILTO:contato@321live.net.br
END:VEVENT
END:VCALENDAR